BEGIN:VCALENDAR
VERSION:2.0
PRODID:-//Lotus Chapel Colony - ECPv6.15.20//NONSGML v1.0//EN
CALSCALE:GREGORIAN
METHOD:PUBLISH
X-WR-CALNAME:Lotus Chapel Colony
X-ORIGINAL-URL:https://lotuschapel.org
X-WR-CALDESC:Events for Lotus Chapel Colony
REFRESH-INTERVAL;VALUE=DURATION:PT1H
X-Robots-Tag:noindex
X-PUBLISHED-TTL:PT1H
BEGIN:VTIMEZONE
TZID:UTC
BEGIN:STANDARD
TZOFFSETFROM:+0000
TZOFFSETTO:+0000
TZNAME:UTC
DTSTART:20240101T000000
END:STANDARD
END:VTIMEZONE
BEGIN:VEVENT
DTSTART;TZID=UTC:20250926T110000
DTEND;TZID=UTC:20250928T150000
DTSTAMP:20260423T164459
CREATED:20250826T005003Z
LAST-MODIFIED:20250826T005003Z
UID:1643-1758884400-1759071600@lotuschapel.org
SUMMARY:YA Fall Retreat
DESCRIPTION:Jai Guru! 🙏✨\nComing soon is our YA fall retreat up here in Mendocino County. \n🗓 Dates: Sept 26–28\n📍 Location: Lotus Chapel Colony\, Laytonville\, CA\n🏕 Stay options: camping under the stars or indoors in the main house \nWe’ll be sharing:\n🎶 Kirtan\n🌲 Nature walks\n🌱 Vegan meals\n🧘🏽 Meditations together \nIf you are interested\, Please send us an email at Lotuschapelcolony@gmail.com with the word JOY and we´ll send you the information \nMuch love to you all—Jai Guru 💙
URL:https://lotuschapel.org/event/ya-fall-retreat/
LOCATION:Lotus Chapel Colony\, 4991 Spyrock Road\, Laytonville\, California\, 95454\, Colombia
END:VEVENT
BEGIN:VEVENT
DTSTART;TZID=UTC:20250919T110000
DTEND;TZID=UTC:20250921T150000
DTSTAMP:20260423T164459
CREATED:20250826T005921Z
LAST-MODIFIED:20250826T005921Z
UID:1646-1758279600-1758466800@lotuschapel.org
SUMMARY:Monthly Silent Meditation Retreat
DESCRIPTION:We are blessed to announce that every 3rd weekend of each month we are hosting a Silent Meditation Retreat.  \nThe purpose of attending a Silent Meditation Retreat is to be able to rest and withdraw from the world\, leaving aside daily concerns\, and putting God first.\nGod has no specific form; for some\, God is love and joy\, for others\, God is silence and peace. However you see God\, focus on that vision with deep devotion and immerse yourself in your inner self so that you can completely renew your being. \nRetreat Activities \nMeditation\nSilence\nIntrospection\nFree time to rest and enjoy nature
URL:https://lotuschapel.org/event/monthly-silent-meditation-retreat/
ORGANIZER;CN="Lotus Chapel Colony":MAILTO:lotuschapelcolony@gmail.com
END:VEVENT
END:VCALENDAR